BEGIN:VCALENDAR
VERSION:2.0
PRODID:-//M&#039;Wikwedong - ECPv6.15.20//NONSGML v1.0//EN
CALSCALE:GREGORIAN
METHOD:PUBLISH
X-WR-CALNAME:M&#039;Wikwedong
X-ORIGINAL-URL:https://mwikwedong.com
X-WR-CALDESC:Events for M&#039;Wikwedong
REFRESH-INTERVAL;VALUE=DURATION:PT1H
X-Robots-Tag:noindex
X-PUBLISHED-TTL:PT1H
BEGIN:VTIMEZONE
TZID:UTC
BEGIN:STANDARD
TZOFFSETFROM:+0000
TZOFFSETTO:+0000
TZNAME:UTC
DTSTART:20180101T000000
END:STANDARD
END:VTIMEZONE
BEGIN:VEVENT
DTSTART;VALUE=DATE:20190819
DTEND;VALUE=DATE:20190831
DTSTAMP:20260421T120715
CREATED:20190802T182158Z
LAST-MODIFIED:20190802T182158Z
UID:1920-1566172800-1567209599@mwikwedong.com
SUMMARY:Two Spirit: No Programing
DESCRIPTION:Karen is on vacation from August 19 until August 30.  Regular scheduled programming will return August 1\, 2019
URL:https://mwikwedong.com/event/two-spirit-no-programing/
END:VEVENT
BEGIN:VEVENT
DTSTART;VALUE=DATE:20190823
DTEND;VALUE=DATE:20190824
DTSTAMP:20260421T120715
CREATED:20190802T161715Z
LAST-MODIFIED:20190802T161715Z
UID:1887-1566518400-1566604799@mwikwedong.com
SUMMARY:No EarlyON Programming today
DESCRIPTION:There is no EarlyON programming today.  We will return to our regular scheduled programming tomorrow.
URL:https://mwikwedong.com/event/no-earlyon-programming-today-2/
END:VEVENT
BEGIN:VEVENT
DTSTART;TZID=UTC:20190823T110000
DTEND;TZID=UTC:20190823T120000
DTSTAMP:20260421T120715
CREATED:20190718T155636Z
LAST-MODIFIED:20190718T155636Z
UID:1807-1566558000-1566561600@mwikwedong.com
SUMMARY:CRC: Anishnaabemdaa – Speaking Ojibwe – YOU MUST REGISTER FOR THIS SERIES
DESCRIPTION:The primary focus will be geared towards beginners who are interested in learning to speak the First Nation language that is commonly used in this area.\nThere will be a weekly session scheduled that will be in a classroom setting at the Centre. \nThe class has spaces for up to 20 participants.  You  must pre-register to attend this series. \nYou can find the sign up at the Centre or contact Paul Nadjiwan at ext. 231 or by email crc@mwikwedong.com
URL:https://mwikwedong.com/event/crc-anishnaabemdaa-speaking-ojibwe-you-must-register-for-this-series-4/
END:VEVENT
END:VCALENDAR