BEGIN:VCALENDAR
VERSION:2.0
PRODID:-//M&#039;Wikwedong - ECPv6.15.20//NONSGML v1.0//EN
CALSCALE:GREGORIAN
METHOD:PUBLISH
X-WR-CALNAME:M&#039;Wikwedong
X-ORIGINAL-URL:https://mwikwedong.com
X-WR-CALDESC:Events for M&#039;Wikwedong
REFRESH-INTERVAL;VALUE=DURATION:PT1H
X-Robots-Tag:noindex
X-PUBLISHED-TTL:PT1H
BEGIN:VTIMEZONE
TZID:UTC
BEGIN:STANDARD
TZOFFSETFROM:+0000
TZOFFSETTO:+0000
TZNAME:UTC
DTSTART:20180101T000000
END:STANDARD
END:VTIMEZONE
BEGIN:VEVENT
DTSTART;TZID=UTC:20190904T130000
DTEND;TZID=UTC:20190904T150000
DTSTAMP:20260423T173431
CREATED:20190903T185401Z
LAST-MODIFIED:20190903T185401Z
UID:2002-1567602000-1567609200@mwikwedong.com
SUMMARY:EarlyON: Keepsake Creations (Rock Pictures)
DESCRIPTION:Together with your little one make a homemade keepsake that you will cherish.\n\n\nPlease contact Heather to register (519) 371-1147 Ext 28 or226-668-6936
URL:https://mwikwedong.com/event/earlyon-keepsake-creations-rock-pictures/
END:VEVENT
END:VCALENDAR