BEGIN:VCALENDAR
VERSION:2.0
PRODID:-//M&#039;Wikwedong - ECPv6.15.20//NONSGML v1.0//EN
CALSCALE:GREGORIAN
METHOD:PUBLISH
X-WR-CALNAME:M&#039;Wikwedong
X-ORIGINAL-URL:https://mwikwedong.com
X-WR-CALDESC:Events for M&#039;Wikwedong
REFRESH-INTERVAL;VALUE=DURATION:PT1H
X-Robots-Tag:noindex
X-PUBLISHED-TTL:PT1H
BEGIN:VTIMEZONE
TZID:UTC
BEGIN:STANDARD
TZOFFSETFROM:+0000
TZOFFSETTO:+0000
TZNAME:UTC
DTSTART:20250101T000000
END:STANDARD
END:VTIMEZONE
BEGIN:VEVENT
DTSTART;TZID=UTC:20260423T120000
DTEND;TZID=UTC:20260424T120000
DTSTAMP:20260423T173554
CREATED:20260402T184345Z
LAST-MODIFIED:20260402T184424Z
UID:14958-1776945600-1777032000@mwikwedong.com
SUMMARY:Spring Clothing Drive
DESCRIPTION:Our annual spring clothing drive is back once again! \nDonations accepted starting April 10th and ending April 22nd. All donations must only include good quality\, clean clothing\, shoes\, hats\, and/or belts. Further accessories\, such as purses\, along with other fabrics such as bedding\, are not accepted. Winter clothes\, such as heavy coats\, gloves\, and mitts\, are not accepted.
URL:https://mwikwedong.com/event/spring-clothing-drive/
END:VEVENT
BEGIN:VEVENT
DTSTART;TZID=UTC:20260423T150000
DTEND;TZID=UTC:20260423T170000
DTSTAMP:20260423T173554
CREATED:20260401T161416Z
LAST-MODIFIED:20260401T161416Z
UID:14931-1776956400-1776963600@mwikwedong.com
SUMMARY:Open Beading Circle
DESCRIPTION:An open beading craft circle for anyone of all ages to join\, hosted by EarlyON and open to all! \nJoin us for a beading circle gathering! Bead\, share designs and techniques\, connect\, learn\, and pass on traditional artistic knowledge while expressing identity and cultural history. \nSnack provided. Child minding available – please pre-register for this if needed as space is limited. Email earlyonhv@mwikwedong.com or earlyonmj@mwikwedong.com
URL:https://mwikwedong.com/event/open-beading-circle-15/
END:VEVENT
BEGIN:VEVENT
DTSTART;TZID=UTC:20260423T153000
DTEND;TZID=UTC:20260423T170000
DTSTAMP:20260423T173554
CREATED:20260401T145924Z
LAST-MODIFIED:20260401T145924Z
UID:14893-1776958200-1776963600@mwikwedong.com
SUMMARY:AkweGO: Waawaaskesh
DESCRIPTION:This program provides 1:1 support and group activities for Indigenous children between 7 to 12 years of age. \nFor more information please contact Mara at akwe.go@mwikwedong.com or through Facebook
URL:https://mwikwedong.com/event/akwego-waawaaskesh-4/
END:VEVENT
BEGIN:VEVENT
DTSTART;TZID=UTC:20260423T163000
DTEND;TZID=UTC:20260423T173000
DTSTAMP:20260423T173554
CREATED:20260401T150057Z
LAST-MODIFIED:20260401T150057Z
UID:14897-1776961800-1776965400@mwikwedong.com
SUMMARY:CRC: Pow-wow Drumming
DESCRIPTION:Formerly drum nights. For more information\, contact Lorne Pawis at (519) 371-1147 ext. 231 or email crc@mwikwedong.com.
URL:https://mwikwedong.com/event/crc-pow-wow-drumming-11/
END:VEVENT
END:VCALENDAR