BEGIN:VCALENDAR
VERSION:2.0
PRODID:-//M&#039;Wikwedong - ECPv6.15.20//NONSGML v1.0//EN
CALSCALE:GREGORIAN
METHOD:PUBLISH
X-WR-CALNAME:M&#039;Wikwedong
X-ORIGINAL-URL:https://mwikwedong.com
X-WR-CALDESC:Events for M&#039;Wikwedong
REFRESH-INTERVAL;VALUE=DURATION:PT1H
X-Robots-Tag:noindex
X-PUBLISHED-TTL:PT1H
BEGIN:VTIMEZONE
TZID:UTC
BEGIN:STANDARD
TZOFFSETFROM:+0000
TZOFFSETTO:+0000
TZNAME:UTC
DTSTART:20240101T000000
END:STANDARD
END:VTIMEZONE
BEGIN:VEVENT
DTSTART;TZID=UTC:20250820T093000
DTEND;TZID=UTC:20250820T110000
DTSTAMP:20260421T171910
CREATED:20250801T160003Z
LAST-MODIFIED:20250801T160003Z
UID:13742-1755682200-1755687600@mwikwedong.com
SUMMARY:EarlyON: Make and Take - Buttons - Please register
DESCRIPTION:For more information or to register please email EarlyON at earlyonbmc@mwikwedong.com or on Facebook
URL:https://mwikwedong.com/event/earlyon-make-and-take-buttons-please-register/
END:VEVENT
BEGIN:VEVENT
DTSTART;TZID=UTC:20250819T180000
DTEND;TZID=UTC:20250819T193000
DTSTAMP:20260421T171910
CREATED:20250801T173349Z
LAST-MODIFIED:20250801T173349Z
UID:13797-1755626400-1755631800@mwikwedong.com
SUMMARY:CAPC/IHWS/LLC: Hand Drumming
DESCRIPTION:For hand drumming please contact Tanya 519 372 7898 or Robyn 226 668 7457 to arrange transportation.\nFor more information please go to the M’Wikwedong Hand Drumming Facebook Group here
URL:https://mwikwedong.com/event/capc-ihws-llc-hand-drumming-14/
END:VEVENT
BEGIN:VEVENT
DTSTART;TZID=UTC:20250819T153000
DTEND;TZID=UTC:20250819T173000
DTSTAMP:20260421T171910
CREATED:20250801T142242Z
LAST-MODIFIED:20250801T142242Z
UID:13698-1755617400-1755624600@mwikwedong.com
SUMMARY:AkweGO: Makwa
DESCRIPTION:This program provides 1:1 support and group activities for Indigenous children between 7 to 12 years of age. \nFor more information please contact Mara at akwe.go@mwikwedong.com or through Facebook
URL:https://mwikwedong.com/event/akwego-makwa-121/
END:VEVENT
BEGIN:VEVENT
DTSTART;TZID=UTC:20250819T130000
DTEND;TZID=UTC:20250819T143000
DTSTAMP:20260421T171910
CREATED:20250801T173135Z
LAST-MODIFIED:20250801T173135Z
UID:13795-1755608400-1755613800@mwikwedong.com
SUMMARY:EarlyON: Baby Beach Walk - Please Register
DESCRIPTION:This is a story walk at Kelso Beach. For more information or to register please email EarlyON at earlyonmj@mwikwedong.com\, earlyonhv@mwikwedong.com\, or on Facebook.
URL:https://mwikwedong.com/event/earlyon-baby-beach-walk-please-register-2/
END:VEVENT
BEGIN:VEVENT
DTSTART;TZID=UTC:20250819T103000
DTEND;TZID=UTC:20250819T120000
DTSTAMP:20260421T171910
CREATED:20250801T165720Z
LAST-MODIFIED:20250801T165720Z
UID:13771-1755599400-1755604800@mwikwedong.com
SUMMARY:CPNP: Traditional Rattles #2 - please register
DESCRIPTION:This program is for CPNP client’s.  Please contact Mary Lynn to register at cpnp@mwikwedong.com or on Facebook here
URL:https://mwikwedong.com/event/cpnp-traditional-rattles-2-please-register-3/
END:VEVENT
BEGIN:VEVENT
DTSTART;TZID=UTC:20250819T100000
DTEND;TZID=UTC:20250819T110000
DTSTAMP:20260421T171911
CREATED:20250801T134246Z
LAST-MODIFIED:20250801T134246Z
UID:13686-1755597600-1755601200@mwikwedong.com
SUMMARY:UAHLP: Stretch and Breathe Yoga
DESCRIPTION:In-person yoga and stretching classes\, beginners welcome. For more information\, contact Shannon Crow at uahlp@mwikedong.com or (519) 371-1147 ext 232.
URL:https://mwikwedong.com/event/uahlp-stretch-and-breathe-yoga-3/
END:VEVENT
BEGIN:VEVENT
DTSTART;TZID=UTC:20250819T090000
DTEND;TZID=UTC:20250819T163000
DTSTAMP:20260421T171911
CREATED:20250801T172644Z
LAST-MODIFIED:20250801T172644Z
UID:13793-1755594000-1755621000@mwikwedong.com
SUMMARY:Apatisiwin: Behind the Scenes at Blue Mountain
DESCRIPTION:What to expect: \n\nDiscover employment opportunities at Blue Mountain Resort\nLearn about the skills required to get hired\nExplore a variety of job types and employee accommodations\nTour the resort with Blue Mountain staff\n\nWho can attend: \n\nYouth 14+\nMust have a Social Insurance Number (SIN)\nLimited spots available!\n\nWe depart from M’Wikwedong IFC promptly at 9:00 am\, transportation provided and lunch provided. After the tour\, receive a Play All Day Pass to enjoy the resort amenities! \nFor more information or to register\, contact Jennifer Linklater at apatisiwin@mwikwedong.com.
URL:https://mwikwedong.com/event/apatisiwin-behind-the-scenes-at-blue-mountain/
END:VEVENT
BEGIN:VEVENT
DTSTART;TZID=UTC:20250818T180000
DTEND;TZID=UTC:20250818T200000
DTSTAMP:20260421T171911
CREATED:20250801T161248Z
LAST-MODIFIED:20250801T161248Z
UID:13763-1755540000-1755547200@mwikwedong.com
SUMMARY:CPNP: Labour & Birth Prep Class #2 - via zoom
DESCRIPTION:This is for CPNP client’s.  Please contact Mary Lynn at: cpnp@mwikwedong.com \n\n\n\nor you can send her a message on the CPNP Facebook page
URL:https://mwikwedong.com/event/cpnp-labour-birth-prep-class-2-via-zoom-6/
END:VEVENT
BEGIN:VEVENT
DTSTART;TZID=UTC:20250818T153000
DTEND;TZID=UTC:20250818T173000
DTSTAMP:20260421T171911
CREATED:20250801T161105Z
LAST-MODIFIED:20250801T161105Z
UID:13758-1755531000-1755538200@mwikwedong.com
SUMMARY:AkweGO: Nigig
DESCRIPTION:This program provides 1:1 support and group activities for Indigenous children between 7 to 12 years of age. \nFor more information please contact Mara at akwe.go@mwikwedong.com or through Facebook
URL:https://mwikwedong.com/event/akwego-nigig-98/
END:VEVENT
BEGIN:VEVENT
DTSTART;TZID=UTC:20250818T140000
DTEND;TZID=UTC:20250818T150000
DTSTAMP:20260421T171911
CREATED:20250801T160908Z
LAST-MODIFIED:20250801T160908Z
UID:13752-1755525600-1755529200@mwikwedong.com
SUMMARY:IMHW: Volleyball
DESCRIPTION:Co-ed indoor Volleyball.  Come out and meet new friends who share your love for the sport\, get a great workout\, and enjoy a fun day of volleyball.\n\nFor more information or to register please contact Winston at 519-371-1147 ext 236 or email him at imhw-wb@mwikwedong.com
URL:https://mwikwedong.com/event/imhw-volleyball-2/
END:VEVENT
BEGIN:VEVENT
DTSTART;TZID=UTC:20250818T133000
DTEND;TZID=UTC:20250818T153000
DTSTAMP:20260421T171911
CREATED:20250801T171558Z
LAST-MODIFIED:20250801T171558Z
UID:13789-1755523800-1755531000@mwikwedong.com
SUMMARY:LLC: Crafting
DESCRIPTION:This week’s craft is talking stick. For more information or to register please contact Margaret or Wendy at ext 229 or by email at llc@mwikwedong.com or llc-wlb@mwikwedong.com.\nYou can find the Life Long Care program on Facebook here
URL:https://mwikwedong.com/event/llc-crafting-24/
END:VEVENT
BEGIN:VEVENT
DTSTART;TZID=UTC:20250818T130000
DTEND;TZID=UTC:20250818T140000
DTSTAMP:20260421T171911
CREATED:20250801T171400Z
LAST-MODIFIED:20250801T171400Z
UID:13786-1755522000-1755525600@mwikwedong.com
SUMMARY:IHWS: Salad Dressing & Infused Vinegar Workshop - Please register
DESCRIPTION:This event is full. To find out more or to register please contact Tanya on Facebook here or email her at ahws@mwikwedong.com
URL:https://mwikwedong.com/event/ihws-salad-dressing-infused-vinegar-workshop-please-register-3/
END:VEVENT
BEGIN:VEVENT
DTSTART;TZID=UTC:20250818T100000
DTEND;TZID=UTC:20250818T113000
DTSTAMP:20260421T171911
CREATED:20250801T160324Z
LAST-MODIFIED:20250801T160324Z
UID:13746-1755511200-1755516600@mwikwedong.com
SUMMARY:IHWS: Gardening
DESCRIPTION:This is a drop-in event. Help cultivate culinary herbs and vegetables in a community garden setting. Weather-dependent. To find out more or to register please contact Tanya on Facebook here or email her at ahws@mwikwedong.com
URL:https://mwikwedong.com/event/ihws-gardening-34/
END:VEVENT
BEGIN:VEVENT
DTSTART;TZID=UTC:20250814T163000
DTEND;TZID=UTC:20250814T173000
DTSTAMP:20260421T171911
CREATED:20250801T145711Z
LAST-MODIFIED:20250801T145711Z
UID:13728-1755189000-1755192600@mwikwedong.com
SUMMARY:CRC: Drum Nights
DESCRIPTION:For more information\, contact Lorne Pawis at (519) 371-1147 ext. 231 or email crc@mwikwedong.com.
URL:https://mwikwedong.com/event/crc-drum-nights-36/
END:VEVENT
BEGIN:VEVENT
DTSTART;TZID=UTC:20250814T113000
DTEND;TZID=UTC:20250814T133000
DTSTAMP:20260421T171911
CREATED:20250801T170959Z
LAST-MODIFIED:20250801T170959Z
UID:13784-1755171000-1755178200@mwikwedong.com
SUMMARY:ILRP: Community Lunch & Learn
DESCRIPTION:Take the afternoon to have lunch and learn some Anishinaabemowin\, or Ojibwe. This is a drop-in event. For more information\, contact Thunder at ilrp@mwikwedong.com.
URL:https://mwikwedong.com/event/ilrp-community-lunch-learn/
END:VEVENT
BEGIN:VEVENT
DTSTART;TZID=UTC:20250814T100000
DTEND;TZID=UTC:20250814T113000
DTSTAMP:20260421T171911
CREATED:20250801T145238Z
LAST-MODIFIED:20250801T145238Z
UID:13720-1755165600-1755171000@mwikwedong.com
SUMMARY:EarlyON/CAPC: Kindergym
DESCRIPTION:This is a drop-in event. For more information please email EarlyON at earlyonmj@mwikwedong.com or on Facebook
URL:https://mwikwedong.com/event/earlyon-capc-kindergym-20/
END:VEVENT
BEGIN:VEVENT
DTSTART;TZID=UTC:20250813T170000
DTEND;TZID=UTC:20250813T190000
DTSTAMP:20260421T171911
CREATED:20250801T170239Z
LAST-MODIFIED:20250801T170239Z
UID:13778-1755104400-1755111600@mwikwedong.com
SUMMARY:ILRP: Ojibwe Language Nights
DESCRIPTION:Anishinaabemowin—also known as Ojibwe—is the language spoken by the Anishinaabe people. \nJoin Thunder as he teaches Anishinaabemowin language classes.  You must register and confirm your attendance prior to each class.  Please contact Thunder at ilrp@mwikwedong.com
URL:https://mwikwedong.com/event/ilrp-ojibwe-language-nights-10/
END:VEVENT
BEGIN:VEVENT
DTSTART;TZID=UTC:20250813T153000
DTEND;TZID=UTC:20250813T173000
DTSTAMP:20260421T171911
CREATED:20250801T144036Z
LAST-MODIFIED:20250801T144036Z
UID:13712-1755099000-1755106200@mwikwedong.com
SUMMARY:AkweGO: Ma'iingaan
DESCRIPTION:This program provides 1:1 support and group activities for Indigenous children between 7 to 12 years of age. \nFor more information please contact Mara at akwe.go@mwikwedong.com or through Facebook
URL:https://mwikwedong.com/event/akwego-maiingaan-105/
END:VEVENT
BEGIN:VEVENT
DTSTART;TZID=UTC:20250813T130000
DTEND;TZID=UTC:20250813T150000
DTSTAMP:20260421T171911
CREATED:20250801T143142Z
LAST-MODIFIED:20250801T143142Z
UID:13702-1755090000-1755097200@mwikwedong.com
SUMMARY:EarlyON: Baby Group
DESCRIPTION:For more information or to register please email EarlyON at earlyonmj@mwikwedong.com\, earlyonhv@mwikwedong.com\, or on Facebook
URL:https://mwikwedong.com/event/earlyon-baby-group-48/
END:VEVENT
BEGIN:VEVENT
DTSTART;TZID=UTC:20250813T093000
DTEND;TZID=UTC:20250813T113000
DTSTAMP:20260421T171911
CREATED:20250801T133347Z
LAST-MODIFIED:20250801T133347Z
UID:13676-1755077400-1755084600@mwikwedong.com
SUMMARY:EarlyON: Early Learning Indoor Playgroup
DESCRIPTION:This is a drop-in event. For more information please email Melissa at earlyonmj@mwikwedong.com\, email Heather at earlyonhv@mwikwedong.com\, or you can join us on Facebook!
URL:https://mwikwedong.com/event/earlyon-early-learning-indoor-playgroup-27/
END:VEVENT
BEGIN:VEVENT
DTSTART;TZID=UTC:20250812T153000
DTEND;TZID=UTC:20250812T173000
DTSTAMP:20260421T171911
CREATED:20250801T142134Z
LAST-MODIFIED:20250801T142134Z
UID:13696-1755012600-1755019800@mwikwedong.com
SUMMARY:AkweGO: Makwa
DESCRIPTION:This program provides 1:1 support and group activities for Indigenous children between 7 to 12 years of age. \nFor more information please contact Mara at akwe.go@mwikwedong.com or through Facebook
URL:https://mwikwedong.com/event/akwego-makwa-120/
END:VEVENT
BEGIN:VEVENT
DTSTART;TZID=UTC:20250812T130000
DTEND;TZID=UTC:20250812T160000
DTSTAMP:20260421T171911
CREATED:20250801T170123Z
LAST-MODIFIED:20250801T170123Z
UID:13776-1755003600-1755014400@mwikwedong.com
SUMMARY:IHWS: Kayaking & Pizza - Please Register
DESCRIPTION:Enjoy kayaking in the early afternoon before coming back to shore for pizza at The Launch. For more information or to register\, contact Tanya at ahws@mwikwedong.com.
URL:https://mwikwedong.com/event/ihws-kayaking-pizza-please-register/
END:VEVENT
BEGIN:VEVENT
DTSTART;TZID=UTC:20250812T130000
DTEND;TZID=UTC:20250812T150000
DTSTAMP:20260421T171911
CREATED:20250801T165957Z
LAST-MODIFIED:20250801T165957Z
UID:13774-1755003600-1755010800@mwikwedong.com
SUMMARY:Reaching Home/CRC: Hair Braiding Class
DESCRIPTION:Join us to learn about how to braid hair and honour the self. \nAll are welcome to come and join. Relatives are encouraged to attend. For more information\, contact Jason at reachinghome-jk@mwikwedong.com or Lorne at crc@mwikwedong.com.
URL:https://mwikwedong.com/event/reaching-home-crc-hair-braiding-class/
END:VEVENT
BEGIN:VEVENT
DTSTART;TZID=UTC:20250812T103000
DTEND;TZID=UTC:20250812T120000
DTSTAMP:20260421T171911
CREATED:20250801T165642Z
LAST-MODIFIED:20250801T165642Z
UID:13770-1754994600-1755000000@mwikwedong.com
SUMMARY:CPNP: Traditional Rattles #1 - please register
DESCRIPTION:This program is for CPNP client’s.  Please contact Mary Lynn to register at cpnp@mwikwedong.com or on Facebook here
URL:https://mwikwedong.com/event/cpnp-traditional-rattles-1-please-register-3/
END:VEVENT
BEGIN:VEVENT
DTSTART;TZID=UTC:20250812T100000
DTEND;TZID=UTC:20250812T110000
DTSTAMP:20260421T171911
CREATED:20250801T134146Z
LAST-MODIFIED:20250801T134146Z
UID:13684-1754992800-1754996400@mwikwedong.com
SUMMARY:UAHLP: Stretch and Breathe Yoga
DESCRIPTION:In-person yoga and stretching classes\, beginners welcome. For more information\, contact Shannon Crow at uahlp@mwikedong.com or (519) 371-1147 ext 232.
URL:https://mwikwedong.com/event/uahlp-stretch-and-breathe-yoga-2/
END:VEVENT
BEGIN:VEVENT
DTSTART;TZID=UTC:20250812T093000
DTEND;TZID=UTC:20250812T113000
DTSTAMP:20260421T171911
CREATED:20250801T165345Z
LAST-MODIFIED:20250801T165345Z
UID:13768-1754991000-1754998200@mwikwedong.com
SUMMARY:EarlyON: Early Learning Outdoor Playgroup
DESCRIPTION:This is a drop-in event. For more information please email Melissa at earlyonmj@mwikwedong.com\, email Heather at earlyonhv@mwikwedong.com\, or you can join us on Facebook!
URL:https://mwikwedong.com/event/earlyon-early-learning-outdoor-playgroup-22/
END:VEVENT
BEGIN:VEVENT
DTSTART;TZID=UTC:20250811T180000
DTEND;TZID=UTC:20250811T200000
DTSTAMP:20260421T171911
CREATED:20250801T161233Z
LAST-MODIFIED:20250801T161233Z
UID:13762-1754935200-1754942400@mwikwedong.com
SUMMARY:CPNP: Labour & Birth Prep Class #1 - via zoom
DESCRIPTION:This is for CPNP client’s.  Please contact Mary Lynn at: cpnp@mwikwedong.com \n\n\n\nor you can send her a message on the CPNP Facebook page
URL:https://mwikwedong.com/event/cpnp-labour-birth-prep-class-1-via-zoom-6/
END:VEVENT
BEGIN:VEVENT
DTSTART;TZID=UTC:20250811T153000
DTEND;TZID=UTC:20250811T173000
DTSTAMP:20260421T171911
CREATED:20250801T161032Z
LAST-MODIFIED:20250801T161032Z
UID:13756-1754926200-1754933400@mwikwedong.com
SUMMARY:AkweGO: Nigig
DESCRIPTION:This program provides 1:1 support and group activities for Indigenous children between 7 to 12 years of age. \nFor more information please contact Mara at akwe.go@mwikwedong.com or through Facebook
URL:https://mwikwedong.com/event/akwego-nigig-97/
END:VEVENT
BEGIN:VEVENT
DTSTART;TZID=UTC:20250811T140000
DTEND;TZID=UTC:20250811T150000
DTSTAMP:20260421T171911
CREATED:20250801T160838Z
LAST-MODIFIED:20250801T160838Z
UID:13750-1754920800-1754924400@mwikwedong.com
SUMMARY:IMHW: Volleyball
DESCRIPTION:Co-ed indoor Volleyball.  Come out and meet new friends who share your love for the sport\, get a great workout\, and enjoy a fun day of volleyball.\n\nFor more information or to register please contact Winston at 519-371-1147 ext 236 or email him at imhw-wb@mwikwedong.com
URL:https://mwikwedong.com/event/imhw-volleyball/
END:VEVENT
BEGIN:VEVENT
DTSTART;TZID=UTC:20250811T130000
DTEND;TZID=UTC:20250811T140000
DTSTAMP:20260421T171911
CREATED:20250801T160631Z
LAST-MODIFIED:20250801T171443Z
UID:13748-1754917200-1754920800@mwikwedong.com
SUMMARY:IHWS: Pesto Workshop (please register)
DESCRIPTION:This event is now full. To find out more or to register please contact Tanya on Facebook here or email her at ahws@mwikwedong.com
URL:https://mwikwedong.com/event/ihws-pesto-workshop-please-register/
END:VEVENT
END:VCALENDAR