BEGIN:VCALENDAR
VERSION:2.0
PRODID:-//M&#039;Wikwedong - ECPv6.15.20//NONSGML v1.0//EN
CALSCALE:GREGORIAN
METHOD:PUBLISH
X-WR-CALNAME:M&#039;Wikwedong
X-ORIGINAL-URL:https://mwikwedong.com
X-WR-CALDESC:Events for M&#039;Wikwedong
REFRESH-INTERVAL;VALUE=DURATION:PT1H
X-Robots-Tag:noindex
X-PUBLISHED-TTL:PT1H
BEGIN:VTIMEZONE
TZID:UTC
BEGIN:STANDARD
TZOFFSETFROM:+0000
TZOFFSETTO:+0000
TZNAME:UTC
DTSTART:20240101T000000
END:STANDARD
END:VTIMEZONE
BEGIN:VEVENT
DTSTART;TZID=UTC:20251007T130000
DTEND;TZID=UTC:20251007T143000
DTSTAMP:20260421T230955
CREATED:20250909T165818Z
LAST-MODIFIED:20251002T191900Z
UID:13935-1759842000-1759847400@mwikwedong.com
SUMMARY:LLC/ILRP: Language Socials
DESCRIPTION:This collaborative event features a lunch social and Ojibwe language classes for LLC clients from Thunder with ILRP. For more information\, please contact Wendy at llc-wlb@mwikwedong.com.
URL:https://mwikwedong.com/event/llc-ilrp-language-afternoons/
END:VEVENT
BEGIN:VEVENT
DTSTART;TZID=UTC:20251007T153000
DTEND;TZID=UTC:20251007T173000
DTSTAMP:20260421T230955
CREATED:20251002T192040Z
LAST-MODIFIED:20251002T192040Z
UID:14022-1759851000-1759858200@mwikwedong.com
SUMMARY:AkweGO: Makwa
DESCRIPTION:This program provides 1:1 support and group activities for Indigenous children between 7 to 12 years of age. \nFor more information please contact Mara at akwe.go@mwikwedong.com or through Facebook
URL:https://mwikwedong.com/event/akwego-makwa-123/
END:VEVENT
BEGIN:VEVENT
DTSTART;TZID=UTC:20251007T170000
DTEND;TZID=UTC:20251007T200000
DTSTAMP:20260421T230955
CREATED:20251002T195550Z
LAST-MODIFIED:20251002T195550Z
UID:14030-1759856400-1759867200@mwikwedong.com
SUMMARY:BGDC: Nights of the Living Beaders
DESCRIPTION:A month-long beading and movie series. Limited spaces. \n\nBeginner-friendly\nLearn to bead a bolo tie\nPremade Halloween designs\nWatch a Halloween movie\n\nAll movies: \n\nOct 7: Corpse Bride\nOct 14: Edward Scissorhands\nOct 20: Beetlejuice\nOct 27: Little Shop of Horrors\n\nFor more information or to register\, contact Rachel at bgdc@mwikwedong.com or (519) 373-7177.
URL:https://mwikwedong.com/event/bgdc-nights-of-the-living-beaders/
END:VEVENT
BEGIN:VEVENT
DTSTART;TZID=UTC:20251007T180000
DTEND;TZID=UTC:20251007T193000
DTSTAMP:20260421T230955
CREATED:20251005T134847Z
LAST-MODIFIED:20251005T134847Z
UID:14038-1759860000-1759865400@mwikwedong.com
SUMMARY:CAPC/IHWS/LLC: Hand Drumming
DESCRIPTION:For hand drumming please contact Tanya 519 372 7898 or Robyn 226 668 7457 to arrange transportation.\nFor more information please go to the M’Wikwedong Hand Drumming Facebook Group here
URL:https://mwikwedong.com/event/capc-ihws-llc-hand-drumming-17/
END:VEVENT
BEGIN:VEVENT
DTSTART;TZID=UTC:20251008T130000
DTEND;TZID=UTC:20251008T143000
DTSTAMP:20260421T230955
CREATED:20251006T211432Z
LAST-MODIFIED:20251006T211432Z
UID:14096-1759928400-1759933800@mwikwedong.com
SUMMARY:IHWS/MHW: Women's Circle - Please Register
DESCRIPTION:For more information or to register\, please contact Ronnie at (519) 387-9214 or Tanya at (519) 372-7898.
URL:https://mwikwedong.com/event/ihws-mhw-womens-circle-please-register/
END:VEVENT
BEGIN:VEVENT
DTSTART;TZID=UTC:20251008T130000
DTEND;TZID=UTC:20251008T150000
DTSTAMP:20260421T230955
CREATED:20251006T201241Z
LAST-MODIFIED:20251006T201241Z
UID:14058-1759928400-1759935600@mwikwedong.com
SUMMARY:EarlyON: Baby Group
DESCRIPTION:For more information or to register please email EarlyON at earlyonmj@mwikwedong.com\, earlyonhv@mwikwedong.com\, or on Facebook
URL:https://mwikwedong.com/event/earlyon-baby-group-51/
END:VEVENT
BEGIN:VEVENT
DTSTART;TZID=UTC:20251008T153000
DTEND;TZID=UTC:20251008T173000
DTSTAMP:20260421T230955
CREATED:20251006T202228Z
LAST-MODIFIED:20251006T202228Z
UID:14066-1759937400-1759944600@mwikwedong.com
SUMMARY:AkweGO: Ma'iingaan
DESCRIPTION:This program provides 1:1 support and group activities for Indigenous children between 7 to 12 years of age. \nFor more information please contact Mara at akwe.go@mwikwedong.com or through Facebook
URL:https://mwikwedong.com/event/akwego-maiingaan-108/
END:VEVENT
BEGIN:VEVENT
DTSTART;TZID=UTC:20251008T153000
DTEND;TZID=UTC:20251008T173000
DTSTAMP:20260421T230955
CREATED:20251006T202718Z
LAST-MODIFIED:20251006T202718Z
UID:14072-1759937400-1759944600@mwikwedong.com
SUMMARY:Wasa-Nabin: Youth Group
DESCRIPTION:A drop-in space for youth ages 13 – 20 to socialize with peers. For more information\, please contact Karen at wasa-nabin@mwikwedong.com or call 519-371-1147 ext 225 \nPriority will be given to youth.
URL:https://mwikwedong.com/event/wasa-nabin-youth-group-8/
END:VEVENT
BEGIN:VEVENT
DTSTART;TZID=UTC:20251008T170000
DTEND;TZID=UTC:20251008T190000
DTSTAMP:20260421T230955
CREATED:20251006T204958Z
LAST-MODIFIED:20251006T204958Z
UID:14080-1759942800-1759950000@mwikwedong.com
SUMMARY:ILRP: Ojibwe Language Nights
DESCRIPTION:Anishinaabemowin—also known as Ojibwe—is the language spoken by the Anishinaabe people. \nJoin Thunder as he teaches Anishinaabemowin language classes.  You must register and confirm your attendance prior to each class.  Please contact Thunder at ilrp@mwikwedong.com
URL:https://mwikwedong.com/event/ilrp-ojibwe-language-nights-16/
END:VEVENT
BEGIN:VEVENT
DTSTART;TZID=UTC:20251008T180000
DTEND;TZID=UTC:20251008T200000
DTSTAMP:20260421T230955
CREATED:20251006T211655Z
LAST-MODIFIED:20251006T211655Z
UID:14100-1759946400-1759953600@mwikwedong.com
SUMMARY:CPNP: Prenatal Breastfeeding Class - virtual
DESCRIPTION:This program is for CPNP client’s.  Please contact Mary Lynn to get the Zoom link at cpnp@mwikwedong.com or on Facebook here
URL:https://mwikwedong.com/event/cpnp-prenatal-breastfeeding-class-virtual-12/
END:VEVENT
BEGIN:VEVENT
DTSTART;TZID=UTC:20251009T100000
DTEND;TZID=UTC:20251009T113000
DTSTAMP:20260421T230955
CREATED:20251006T205937Z
LAST-MODIFIED:20251006T205937Z
UID:14090-1760004000-1760009400@mwikwedong.com
SUMMARY:EarlyON: Kindergym
DESCRIPTION:This is a drop-in event. For more information please email EarlyON at earlyonmj@mwikwedong.com or on Facebook
URL:https://mwikwedong.com/event/earlyon-kindergym-7/
END:VEVENT
BEGIN:VEVENT
DTSTART;TZID=UTC:20251009T150000
DTEND;TZID=UTC:20251009T170000
DTSTAMP:20260421T230955
CREATED:20251006T212741Z
LAST-MODIFIED:20251006T212741Z
UID:14110-1760022000-1760029200@mwikwedong.com
SUMMARY:Open Beading Circle
DESCRIPTION:An open beading craft circle for anyone of all ages to join\, hosted by EarlyON and open to all! \nJoin us for a beading circle gathering! Bead\, share designs and techniques\, connect\, learn\, and pass on traditional artistic knowledge while expressing identity and cultural history. \nSnack provided. Child minding available – please pre-register for this if needed as space is limited. Email earlyonhv@mwikwedong.com or earlyonmj@mwikwedong.com
URL:https://mwikwedong.com/event/open-beading-circle-3/
END:VEVENT
BEGIN:VEVENT
DTSTART;TZID=UTC:20251009T170000
DTEND;TZID=UTC:20251009T190000
DTSTAMP:20260421T230955
CREATED:20251002T173221Z
LAST-MODIFIED:20251002T173221Z
UID:13975-1760029200-1760036400@mwikwedong.com
SUMMARY:ILRP: Beginner Ojibwe
DESCRIPTION:Anishinaabemowin—also known as Ojibwe—is the language spoken by the Anishinaabe people. \nJoin Thunder as he teaches Anishinaabemowin language classes for beginners.  You must register and confirm your attendance prior to each class.  Please contact Thunder at ilrp@mwikwedong.com
URL:https://mwikwedong.com/event/ilrp-beginner-ojibwe-4/
END:VEVENT
BEGIN:VEVENT
DTSTART;TZID=UTC:20251010T093000
DTEND;TZID=UTC:20251010T113000
DTSTAMP:20260421T230955
CREATED:20251002T182158Z
LAST-MODIFIED:20251002T182158Z
UID:13989-1760088600-1760095800@mwikwedong.com
SUMMARY:EarlyON: Early Learning Indoor Playgroup
DESCRIPTION:This is a drop-in event. For more information please email Melissa at earlyonmj@mwikwedong.com\, email Heather at earlyonhv@mwikwedong.com\, or you can join us on Facebook!
URL:https://mwikwedong.com/event/earlyon-early-learning-indoor-playgroup-33/
END:VEVENT
BEGIN:VEVENT
DTSTART;TZID=UTC:20251014T100000
DTEND;TZID=UTC:20251014T120000
DTSTAMP:20260421T230955
CREATED:20251002T185212Z
LAST-MODIFIED:20251002T185212Z
UID:14005-1760436000-1760443200@mwikwedong.com
SUMMARY:EarlyON: Fun With Food – Please register
DESCRIPTION:For more information or to register please email EarlyON at earlyonmj@mwikwedong.com or on Facebook.
URL:https://mwikwedong.com/event/earlyon-fun-with-food-please-register-8/
END:VEVENT
BEGIN:VEVENT
DTSTART;TZID=UTC:20251014T110000
DTEND;TZID=UTC:20251014T120000
DTSTAMP:20260421T230955
CREATED:20251002T185528Z
LAST-MODIFIED:20251002T185528Z
UID:14011-1760439600-1760443200@mwikwedong.com
SUMMARY:CPNP/UAHLP: Yoga for Pelvic Health
DESCRIPTION:Every body welcome\, all genders\, all ages. This is by registration. For more information or to register\, contact Shannon at uahlp@mwikwedong.com.
URL:https://mwikwedong.com/event/cpnp-uahlp-yoga-for-pelvic-health-2/
END:VEVENT
BEGIN:VEVENT
DTSTART;TZID=UTC:20251014T153000
DTEND;TZID=UTC:20251014T173000
DTSTAMP:20260421T230955
CREATED:20251002T193323Z
LAST-MODIFIED:20251002T193323Z
UID:14024-1760455800-1760463000@mwikwedong.com
SUMMARY:AkweGO: Makwa
DESCRIPTION:This program provides 1:1 support and group activities for Indigenous children between 7 to 12 years of age. \nFor more information please contact Mara at akwe.go@mwikwedong.com or through Facebook
URL:https://mwikwedong.com/event/akwego-makwa-124/
END:VEVENT
BEGIN:VEVENT
DTSTART;TZID=UTC:20251014T170000
DTEND;TZID=UTC:20251014T200000
DTSTAMP:20260421T230955
CREATED:20251002T195625Z
LAST-MODIFIED:20251002T195625Z
UID:14032-1760461200-1760472000@mwikwedong.com
SUMMARY:BGDC: Nights of the Living Beaders
DESCRIPTION:A month-long beading and movie series. Limited spaces. \n\nBeginner-friendly\nLearn to bead a bolo tie\nPremade Halloween designs\nWatch a Halloween movie\n\nAll movies: \n\nOct 7: Corpse Bride\nOct 14: Edward Scissorhands\nOct 20: Beetlejuice\nOct 27: Little Shop of Horrors\n\nFor more information or to register\, contact Rachel at bgdc@mwikwedong.com or (519) 373-7177.
URL:https://mwikwedong.com/event/bgdc-nights-of-the-living-beaders-2/
END:VEVENT
BEGIN:VEVENT
DTSTART;TZID=UTC:20251014T180000
DTEND;TZID=UTC:20251014T193000
DTSTAMP:20260421T230955
CREATED:20250909T145736Z
LAST-MODIFIED:20251006T185246Z
UID:13910-1760464800-1760470200@mwikwedong.com
SUMMARY:CAPC/IHWS/LLC: Hand Drumming
DESCRIPTION:For hand drumming please contact Tanya 519 372 7898 or Robyn 226 668 7457 to arrange transportation.\nFor more information please go to the M’Wikwedong Hand Drumming Facebook Group here
URL:https://mwikwedong.com/event/capc-ihws-llc-hand-drumming-16/
END:VEVENT
BEGIN:VEVENT
DTSTART;TZID=UTC:20251015T100000
DTEND;TZID=UTC:20251015T120000
DTSTAMP:20260421T230955
CREATED:20251006T204639Z
LAST-MODIFIED:20251006T204639Z
UID:14078-1760522400-1760529600@mwikwedong.com
SUMMARY:EarlyON: Make and Take - Name Art Pumpkin - Please register
DESCRIPTION:For more information or to register please email EarlyON at earlyonhv@mwikwedong.com or earlyonmj@mwikwedong.com or on Facebook
URL:https://mwikwedong.com/event/earlyon-make-and-take-name-art-pumpkin-please-register/
END:VEVENT
BEGIN:VEVENT
DTSTART;TZID=UTC:20251015T130000
DTEND;TZID=UTC:20251015T143000
DTSTAMP:20260421T230955
CREATED:20251006T211538Z
LAST-MODIFIED:20251006T211538Z
UID:14098-1760533200-1760538600@mwikwedong.com
SUMMARY:IHWS/MHW: Women's Circle - Please Register
DESCRIPTION:For more information or to register\, please contact Ronnie at (519) 387-9214 or Tanya at (519) 372-7898.
URL:https://mwikwedong.com/event/ihws-mhw-womens-circle-please-register-2/
END:VEVENT
BEGIN:VEVENT
DTSTART;TZID=UTC:20251015T130000
DTEND;TZID=UTC:20251015T150000
DTSTAMP:20260421T230955
CREATED:20251006T201416Z
LAST-MODIFIED:20251006T201416Z
UID:14060-1760533200-1760540400@mwikwedong.com
SUMMARY:EarlyON: Baby Group
DESCRIPTION:For more information or to register please email EarlyON at earlyonmj@mwikwedong.com\, earlyonhv@mwikwedong.com\, or on Facebook
URL:https://mwikwedong.com/event/earlyon-baby-group-52/
END:VEVENT
BEGIN:VEVENT
DTSTART;TZID=UTC:20251015T153000
DTEND;TZID=UTC:20251015T173000
DTSTAMP:20260421T230955
CREATED:20251006T202404Z
LAST-MODIFIED:20251006T202404Z
UID:14068-1760542200-1760549400@mwikwedong.com
SUMMARY:AkweGO: Ma'iingaan
DESCRIPTION:This program provides 1:1 support and group activities for Indigenous children between 7 to 12 years of age. \nFor more information please contact Mara at akwe.go@mwikwedong.com or through Facebook
URL:https://mwikwedong.com/event/akwego-maiingaan-109/
END:VEVENT
BEGIN:VEVENT
DTSTART;TZID=UTC:20251015T153000
DTEND;TZID=UTC:20251015T173000
DTSTAMP:20260421T230955
CREATED:20251006T203655Z
LAST-MODIFIED:20251006T203655Z
UID:14074-1760542200-1760549400@mwikwedong.com
SUMMARY:Wasa-Nabin: Youth Group
DESCRIPTION:A drop-in space for youth ages 13 – 20 to socialize with peers. For more information\, please contact Karen at wasa-nabin@mwikwedong.com or call 519-371-1147 ext 225 \nPriority will be given to youth.
URL:https://mwikwedong.com/event/wasa-nabin-youth-group-9/
END:VEVENT
BEGIN:VEVENT
DTSTART;TZID=UTC:20251015T170000
DTEND;TZID=UTC:20251015T190000
DTSTAMP:20260421T230955
CREATED:20251006T205106Z
LAST-MODIFIED:20251006T205106Z
UID:14082-1760547600-1760554800@mwikwedong.com
SUMMARY:ILRP: Ojibwe Language Nights
DESCRIPTION:Anishinaabemowin—also known as Ojibwe—is the language spoken by the Anishinaabe people. \nJoin Thunder as he teaches Anishinaabemowin language classes.  You must register and confirm your attendance prior to each class.  Please contact Thunder at ilrp@mwikwedong.com
URL:https://mwikwedong.com/event/ilrp-ojibwe-language-nights-17/
END:VEVENT
BEGIN:VEVENT
DTSTART;TZID=UTC:20251016T100000
DTEND;TZID=UTC:20251016T113000
DTSTAMP:20260421T230955
CREATED:20251006T210043Z
LAST-MODIFIED:20251006T210043Z
UID:14092-1760608800-1760614200@mwikwedong.com
SUMMARY:EarlyON: Kindergym
DESCRIPTION:This is a drop-in event. For more information please email EarlyON at earlyonmj@mwikwedong.com or on Facebook
URL:https://mwikwedong.com/event/earlyon-kindergym-8/
END:VEVENT
BEGIN:VEVENT
DTSTART;TZID=UTC:20251016T110000
DTEND;TZID=UTC:20251016T120000
DTSTAMP:20260421T230955
CREATED:20251006T213018Z
LAST-MODIFIED:20251006T213018Z
UID:14114-1760612400-1760616000@mwikwedong.com
SUMMARY:IHWS: Chair Yoga - Please Register
DESCRIPTION:Hosted online over Zoom – gentle yoga from the comfort of your home. For more information and to get the Zoom link\, please contact ahws@mwikwedong.com or (519) 371-1147 ext 233.
URL:https://mwikwedong.com/event/ihws-chair-yoga-please-register-8/
END:VEVENT
BEGIN:VEVENT
DTSTART;TZID=UTC:20251017T100000
DTEND;TZID=UTC:20251017T113000
DTSTAMP:20260421T230955
CREATED:20251002T182359Z
LAST-MODIFIED:20251002T182359Z
UID:13991-1760695200-1760700600@mwikwedong.com
SUMMARY:EarlyON: Early Learning Indoor Playgroup
DESCRIPTION:This is a drop-in event. For more information please email Melissa at earlyonmj@mwikwedong.com\, email Heather at earlyonhv@mwikwedong.com\, or you can join us on Facebook!
URL:https://mwikwedong.com/event/earlyon-early-learning-indoor-playgroup-34/
END:VEVENT
BEGIN:VEVENT
DTSTART;TZID=UTC:20251017T100000
DTEND;TZID=UTC:20251017T140000
DTSTAMP:20260421T230955
CREATED:20251007T134631Z
LAST-MODIFIED:20251007T134631Z
UID:14120-1760695200-1760709600@mwikwedong.com
SUMMARY:Flu/COVID-19 Vaccine Clinic
DESCRIPTION:For all eligible ages (everyone 12+)\nHealth card not required \nFlu\, Covid\, and RSV (for ages 60+) offered \nFor questions or more information please contact Mary Lynn at cpnp@mwikwedong.com or call 519-371-1147 ext 227
URL:https://mwikwedong.com/event/flu-covid-19-vaccine-clinic-2/
END:VEVENT
BEGIN:VEVENT
DTSTART;TZID=UTC:20251017T120000
DTEND;TZID=UTC:20251017T143000
DTSTAMP:20260421T230956
CREATED:20251007T135228Z
LAST-MODIFIED:20251007T135311Z
UID:14122-1760702400-1760711400@mwikwedong.com
SUMMARY:BGDC/IMHW: Film Screening & Review - Kimmapiiyipitssini: The Meaning of Empathy
DESCRIPTION:Join us for a screening of Kimmapiiyipitssini: The Meaning of Empathy by filmmaker Elle-Maija Tailfeathers. The film is about Kainai Blackfoot First Nation’s response to the overdose crisis. Centering lived experience\, the film follows community members and care providers innovating responses for harm reduction and hope. \nWatch\, learn\, and reflect. Hosted in the gym. \nFor more details\, contact Rachel at bgdc@mwikwedong.com or call/text (519) 373-7177.
URL:https://mwikwedong.com/event/bgdc-imhw-film-screening-review-kimmapiiyipitssini-the-meaning-of-empathy/
END:VEVENT
END:VCALENDAR